BEGIN:VCALENDAR
VERSION:2.0
PRODID:-//GMS - ECPv6.15.20//NONSGML v1.0//EN
CALSCALE:GREGORIAN
METHOD:PUBLISH
X-WR-CALNAME:GMS
X-ORIGINAL-URL:https://gms-vordere-alb.de
X-WR-CALDESC:Veranstaltungen für GMS
REFRESH-INTERVAL;VALUE=DURATION:PT1H
X-Robots-Tag:noindex
X-PUBLISHED-TTL:PT1H
BEGIN:VTIMEZONE
TZID:Europe/Berlin
BEGIN:DAYLIGHT
TZOFFSETFROM:+0100
TZOFFSETTO:+0200
TZNAME:CEST
DTSTART:20240331T010000
END:DAYLIGHT
BEGIN:STANDARD
TZOFFSETFROM:+0200
TZOFFSETTO:+0100
TZNAME:CET
DTSTART:20241027T010000
END:STANDARD
BEGIN:DAYLIGHT
TZOFFSETFROM:+0100
TZOFFSETTO:+0200
TZNAME:CEST
DTSTART:20250330T010000
END:DAYLIGHT
BEGIN:STANDARD
TZOFFSETFROM:+0200
TZOFFSETTO:+0100
TZNAME:CET
DTSTART:20251026T010000
END:STANDARD
BEGIN:DAYLIGHT
TZOFFSETFROM:+0100
TZOFFSETTO:+0200
TZNAME:CEST
DTSTART:20260329T010000
END:DAYLIGHT
BEGIN:STANDARD
TZOFFSETFROM:+0200
TZOFFSETTO:+0100
TZNAME:CET
DTSTART:20261025T010000
END:STANDARD
END:VTIMEZONE
BEGIN:VEVENT
DTSTART;TZID=Europe/Berlin:20250501T080000
DTEND;TZID=Europe/Berlin:20250501T170000
DTSTAMP:20260424T020705
CREATED:20241005T161947Z
LAST-MODIFIED:20241005T162012Z
UID:5239-1746086400-1746118800@gms-vordere-alb.de
SUMMARY:1. Mai Feiertag
DESCRIPTION:
URL:https://gms-vordere-alb.de/index.php/termin/1-mai-feiertag/
LOCATION:beide
CATEGORIES:Ferien
END:VEVENT
BEGIN:VEVENT
DTSTART;TZID=Europe/Berlin:20250502T080000
DTEND;TZID=Europe/Berlin:20250502T170000
DTSTAMP:20260424T020705
CREATED:20241005T162049Z
LAST-MODIFIED:20241005T162049Z
UID:5241-1746172800-1746205200@gms-vordere-alb.de
SUMMARY:2. Mai Brückentag
DESCRIPTION:
URL:https://gms-vordere-alb.de/index.php/termin/2-mai-brueckentag/
LOCATION:beide
CATEGORIES:Ferien
END:VEVENT
BEGIN:VEVENT
DTSTART;TZID=Europe/Berlin:20250506T080000
DTEND;TZID=Europe/Berlin:20250506T170000
DTSTAMP:20260424T020705
CREATED:20241005T134650Z
LAST-MODIFIED:20241005T134650Z
UID:5210-1746518400-1746550800@gms-vordere-alb.de
SUMMARY:Tagespraktikum Kl.7
DESCRIPTION:
URL:https://gms-vordere-alb.de/index.php/termin/tagespraktikum-kl-7/
LOCATION:Standort Böhringen\, Burgstr. 6\, Römerstein\, 72587
CATEGORIES:Event
END:VEVENT
BEGIN:VEVENT
DTSTART;TZID=Europe/Berlin:20250520T080000
DTEND;TZID=Europe/Berlin:20250520T080000
DTSTAMP:20260424T020705
CREATED:20241005T155744Z
LAST-MODIFIED:20241005T160008Z
UID:5212-1747728000-1747728000@gms-vordere-alb.de
SUMMARY:Haupt -/Realschulabschlussprüfung Kl.9/10 Deutsch
DESCRIPTION:
URL:https://gms-vordere-alb.de/index.php/termin/haupt-realschulabschlusspruefung-kl-9-10-deutsch-2/
LOCATION:Standort Böhringen\, Burgstr. 6\, Römerstein\, 72587
CATEGORIES:Prüfung
END:VEVENT
BEGIN:VEVENT
DTSTART;TZID=Europe/Berlin:20250522T080000
DTEND;TZID=Europe/Berlin:20250522T130000
DTSTAMP:20260424T020705
CREATED:20241005T155906Z
LAST-MODIFIED:20241005T160034Z
UID:5214-1747900800-1747918800@gms-vordere-alb.de
SUMMARY:Haupt-/Realschulabschlussprüfung Kl.9/10 Englisch
DESCRIPTION:
URL:https://gms-vordere-alb.de/index.php/termin/haupt-realschulabschlusspruefung-kl-9-10-englisch-2/
LOCATION:Standort Böhringen\, Burgstr. 6\, Römerstein\, 72587
CATEGORIES:Prüfung
END:VEVENT
BEGIN:VEVENT
DTSTART;TZID=Europe/Berlin:20250526T080000
DTEND;TZID=Europe/Berlin:20250526T130000
DTSTAMP:20260424T020705
CREATED:20241005T160154Z
LAST-MODIFIED:20241005T160208Z
UID:5217-1748246400-1748264400@gms-vordere-alb.de
SUMMARY:Haupt-/Realschulabschlussprüfung Kl.9/10 Mathe
DESCRIPTION:
URL:https://gms-vordere-alb.de/index.php/termin/haupt-realschulabschlusspruefung-kl-9-10-mathe-2/
LOCATION:Standort Böhringen\, Burgstr. 6\, Römerstein\, 72587
CATEGORIES:Prüfung
END:VEVENT
BEGIN:VEVENT
DTSTART;TZID=Europe/Berlin:20250528T080000
DTEND;TZID=Europe/Berlin:20250528T130000
DTSTAMP:20260424T020705
CREATED:20241005T160355Z
LAST-MODIFIED:20241005T160400Z
UID:5219-1748419200-1748437200@gms-vordere-alb.de
SUMMARY:Wahlpflichtfachprüfung Kl.10
DESCRIPTION:
URL:https://gms-vordere-alb.de/index.php/termin/wahlpflichtfachpruefung-kl-10/
CATEGORIES:Prüfung
END:VEVENT
BEGIN:VEVENT
DTSTART;TZID=Europe/Berlin:20250529T080000
DTEND;TZID=Europe/Berlin:20250529T170000
DTSTAMP:20260424T020705
CREATED:20241005T162430Z
LAST-MODIFIED:20241005T162440Z
UID:5247-1748505600-1748538000@gms-vordere-alb.de
SUMMARY:Christi Himmelfahrt
DESCRIPTION:
URL:https://gms-vordere-alb.de/index.php/termin/christi-himmelfahrt-2/
LOCATION:beide
CATEGORIES:Ferien
END:VEVENT
BEGIN:VEVENT
DTSTART;TZID=Europe/Berlin:20250530T080000
DTEND;TZID=Europe/Berlin:20250530T170000
DTSTAMP:20260424T020705
CREATED:20241005T162151Z
LAST-MODIFIED:20241005T162244Z
UID:5243-1748592000-1748624400@gms-vordere-alb.de
SUMMARY:Brückentag Christi Himmelfahrt
DESCRIPTION:
URL:https://gms-vordere-alb.de/index.php/termin/christi-himmelfahrt/
LOCATION:beide
CATEGORIES:Ferien
END:VEVENT
END:VCALENDAR