BEGIN:VCALENDAR
VERSION:2.0
PRODID:-//GMS - ECPv6.15.20//NONSGML v1.0//EN
CALSCALE:GREGORIAN
METHOD:PUBLISH
X-ORIGINAL-URL:https://gms-vordere-alb.de
X-WR-CALDESC:Veranstaltungen für GMS
REFRESH-INTERVAL;VALUE=DURATION:PT1H
X-Robots-Tag:noindex
X-PUBLISHED-TTL:PT1H
BEGIN:VTIMEZONE
TZID:Europe/Berlin
BEGIN:DAYLIGHT
TZOFFSETFROM:+0100
TZOFFSETTO:+0200
TZNAME:CEST
DTSTART:20250330T010000
END:DAYLIGHT
BEGIN:STANDARD
TZOFFSETFROM:+0200
TZOFFSETTO:+0100
TZNAME:CET
DTSTART:20251026T010000
END:STANDARD
BEGIN:DAYLIGHT
TZOFFSETFROM:+0100
TZOFFSETTO:+0200
TZNAME:CEST
DTSTART:20260329T010000
END:DAYLIGHT
BEGIN:STANDARD
TZOFFSETFROM:+0200
TZOFFSETTO:+0100
TZNAME:CET
DTSTART:20261025T010000
END:STANDARD
BEGIN:DAYLIGHT
TZOFFSETFROM:+0100
TZOFFSETTO:+0200
TZNAME:CEST
DTSTART:20270328T010000
END:DAYLIGHT
BEGIN:STANDARD
TZOFFSETFROM:+0200
TZOFFSETTO:+0100
TZNAME:CET
DTSTART:20271031T010000
END:STANDARD
END:VTIMEZONE
BEGIN:VEVENT
DTSTART;TZID=Europe/Berlin:20260706T080000
DTEND;TZID=Europe/Berlin:20260910T170000
DTSTAMP:20260423T105833
CREATED:20250915T065634Z
LAST-MODIFIED:20250915T065634Z
UID:5423-1783324800-1789059600@gms-vordere-alb.de
SUMMARY:Mündliche Prüfungen Kl.9/10
DESCRIPTION:
URL:https://gms-vordere-alb.de/index.php/termin/muendliche-pruefungen-kl-9-10/
CATEGORIES:Prüfung
END:VEVENT
BEGIN:VEVENT
DTSTART;TZID=Europe/Berlin:20260730T080000
DTEND;TZID=Europe/Berlin:20260911T170000
DTSTAMP:20260423T105833
CREATED:20250913T171315Z
LAST-MODIFIED:20250913T171315Z
UID:5403-1785398400-1789146000@gms-vordere-alb.de
SUMMARY:Sommerferien
DESCRIPTION:Ferien
URL:https://gms-vordere-alb.de/index.php/termin/sommerferien-7/
CATEGORIES:Ferien
END:VEVENT
END:VCALENDAR