BEGIN:VCALENDAR
VERSION:2.0
PRODID:-//GMS - ECPv6.15.20//NONSGML v1.0//EN
CALSCALE:GREGORIAN
METHOD:PUBLISH
X-ORIGINAL-URL:https://gms-vordere-alb.de
X-WR-CALDESC:Veranstaltungen für GMS
REFRESH-INTERVAL;VALUE=DURATION:PT1H
X-Robots-Tag:noindex
X-PUBLISHED-TTL:PT1H
BEGIN:VTIMEZONE
TZID:Europe/Berlin
BEGIN:DAYLIGHT
TZOFFSETFROM:+0100
TZOFFSETTO:+0200
TZNAME:CEST
DTSTART:20250330T010000
END:DAYLIGHT
BEGIN:STANDARD
TZOFFSETFROM:+0200
TZOFFSETTO:+0100
TZNAME:CET
DTSTART:20251026T010000
END:STANDARD
BEGIN:DAYLIGHT
TZOFFSETFROM:+0100
TZOFFSETTO:+0200
TZNAME:CEST
DTSTART:20260329T010000
END:DAYLIGHT
BEGIN:STANDARD
TZOFFSETFROM:+0200
TZOFFSETTO:+0100
TZNAME:CET
DTSTART:20261025T010000
END:STANDARD
BEGIN:DAYLIGHT
TZOFFSETFROM:+0100
TZOFFSETTO:+0200
TZNAME:CEST
DTSTART:20270328T010000
END:DAYLIGHT
BEGIN:STANDARD
TZOFFSETFROM:+0200
TZOFFSETTO:+0100
TZNAME:CET
DTSTART:20271031T010000
END:STANDARD
END:VTIMEZONE
BEGIN:VEVENT
DTSTART;TZID=Europe/Berlin:20260323T080000
DTEND;TZID=Europe/Berlin:20260327T170000
DTSTAMP:20260422T235926
CREATED:20251006T075311Z
LAST-MODIFIED:20251006T075311Z
UID:5433-1774252800-1774630800@gms-vordere-alb.de
SUMMARY:Fachpraktische Prüfung Kl. 9a
DESCRIPTION:
URL:https://gms-vordere-alb.de/index.php/termin/fachpraktische-pruefung-kl-9a/
LOCATION:Standort Böhringen\, Burgstr. 6\, Römerstein\, 72587
CATEGORIES:Prüfung
END:VEVENT
END:VCALENDAR