BEGIN:VCALENDAR
VERSION:2.0
PRODID:-//GMS - ECPv6.15.20//NONSGML v1.0//EN
CALSCALE:GREGORIAN
METHOD:PUBLISH
X-WR-CALNAME:GMS
X-ORIGINAL-URL:https://gms-vordere-alb.de
X-WR-CALDESC:Veranstaltungen für GMS
REFRESH-INTERVAL;VALUE=DURATION:PT1H
X-Robots-Tag:noindex
X-PUBLISHED-TTL:PT1H
BEGIN:VTIMEZONE
TZID:Europe/Berlin
BEGIN:DAYLIGHT
TZOFFSETFROM:+0100
TZOFFSETTO:+0200
TZNAME:CEST
DTSTART:20240331T010000
END:DAYLIGHT
BEGIN:STANDARD
TZOFFSETFROM:+0200
TZOFFSETTO:+0100
TZNAME:CET
DTSTART:20241027T010000
END:STANDARD
BEGIN:DAYLIGHT
TZOFFSETFROM:+0100
TZOFFSETTO:+0200
TZNAME:CEST
DTSTART:20250330T010000
END:DAYLIGHT
BEGIN:STANDARD
TZOFFSETFROM:+0200
TZOFFSETTO:+0100
TZNAME:CET
DTSTART:20251026T010000
END:STANDARD
BEGIN:DAYLIGHT
TZOFFSETFROM:+0100
TZOFFSETTO:+0200
TZNAME:CEST
DTSTART:20260329T010000
END:DAYLIGHT
BEGIN:STANDARD
TZOFFSETFROM:+0200
TZOFFSETTO:+0100
TZNAME:CET
DTSTART:20261025T010000
END:STANDARD
END:VTIMEZONE
BEGIN:VEVENT
DTSTART;TZID=Europe/Berlin:20250623T080000
DTEND;TZID=Europe/Berlin:20250623T130000
DTSTAMP:20260424T020511
CREATED:20241005T160604Z
LAST-MODIFIED:20241005T160617Z
UID:5221-1750665600-1750683600@gms-vordere-alb.de
SUMMARY:Nachtermin Prüfung Deutsch Kl.9/10
DESCRIPTION:
URL:https://gms-vordere-alb.de/index.php/termin/nachtermin-pruefung-deutsch-kl-9-10/
LOCATION:Standort Böhringen\, Burgstr. 6\, Römerstein\, 72587
CATEGORIES:Prüfung
END:VEVENT
END:VCALENDAR